BEGIN:VCALENDAR
VERSION:2.0
PRODID:-//New Zealand Traditional Boat Building School - ECPv4.8.2//NONSGML v1.0//EN
CALSCALE:GREGORIAN
METHOD:PUBLISH
X-WR-CALNAME:New Zealand Traditional Boat Building School
X-ORIGINAL-URL:http://nztbs.org.nz
X-WR-CALDESC:Events for New Zealand Traditional Boat Building School
BEGIN:VEVENT
DTSTART;TZID=Pacific/Auckland:20200704T093000
DTEND;TZID=Pacific/Auckland:20200705T163000
DTSTAMP:20260424T113733
CREATED:20200529T042213Z
LAST-MODIFIED:20200705T042745Z
UID:1232-1593855000-1593966600@nztbs.org.nz
SUMMARY:Build a Half Model Course
DESCRIPTION:This is a 2 day course on building half models.\nYou will learn the basics of lofting and develop a great understanding of how lines are used to design a boat hull. During the 2 days\, you will develop your own half …To read the full description\, click here. \n
URL:http://nztbs.org.nz/course/build-a-half-model-course-4/
LOCATION:NZ Traditional Boatbuilding School\, P. Vos Building 38 Hammer street Auckland\, New Zealand
END:VEVENT
END:VCALENDAR