BEGIN:VCALENDAR
VERSION:2.0
PRODID:-//New Zealand Traditional Boat Building School - ECPv4.8.2//NONSGML v1.0//EN
CALSCALE:GREGORIAN
METHOD:PUBLISH
X-WR-CALNAME:New Zealand Traditional Boat Building School
X-ORIGINAL-URL:http://nztbs.org.nz
X-WR-CALDESC:Events for New Zealand Traditional Boat Building School
BEGIN:VEVENT
DTSTART;TZID=Pacific/Auckland:20190615T093000
DTEND;TZID=Pacific/Auckland:20190616T163000
DTSTAMP:20260424T114855
CREATED:20190514T040739Z
LAST-MODIFIED:20190805T065659Z
UID:1120-1560591000-1560702600@nztbs.org.nz
SUMMARY:Essential Skills Course JUNE
DESCRIPTION:Essential Skills Course\n2 days hands on course \nThis is our most popular course and is a fantastic introduction to working with wood and building small boats. You will learn all sorts of tips and tricks\, and many …To read the full description\, click here. \n
URL:http://nztbs.org.nz/course/essential-skills-course-2/
LOCATION:NZ Traditional Boatbuilding School\, P. Vos Building 38 Hammer street Auckland\, New Zealand
END:VEVENT
END:VCALENDAR