BEGIN:VCALENDAR
VERSION:2.0
PRODID:-//New Zealand Traditional Boat Building School - ECPv4.8.2//NONSGML v1.0//EN
CALSCALE:GREGORIAN
METHOD:PUBLISH
X-WR-CALNAME:New Zealand Traditional Boat Building School
X-ORIGINAL-URL:http://nztbs.org.nz
X-WR-CALDESC:Events for New Zealand Traditional Boat Building School
BEGIN:VEVENT
DTSTART;TZID=Pacific/Auckland:20200620T093000
DTEND;TZID=Pacific/Auckland:20200621T163000
DTSTAMP:20260424T204549
CREATED:20200220T041331Z
LAST-MODIFIED:20200621T041842Z
UID:1207-1592645400-1592757000@nztbs.org.nz
SUMMARY:Essential Skills Course
DESCRIPTION:Essential Skills Course\n2 days hands on course\nThis is our most popular course and is a fantastic introduction to working with wood and building small boats. You will learn all sorts of tips and tricks\, and many …To read the full description\, click here. \n
URL:http://nztbs.org.nz/course/essential-skills-course-4/
LOCATION:NZ Traditional Boatbuilding School\, P. Vos Building 38 Hammer street Auckland\, New Zealand
END:VEVENT
END:VCALENDAR