BEGIN:VCALENDAR
VERSION:2.0
PRODID:-//New Zealand Traditional Boat Building School - ECPv4.8.2//NONSGML v1.0//EN
CALSCALE:GREGORIAN
METHOD:PUBLISH
X-WR-CALNAME:New Zealand Traditional Boat Building School
X-ORIGINAL-URL:http://nztbs.org.nz
X-WR-CALDESC:Events for New Zealand Traditional Boat Building School
BEGIN:VEVENT
DTSTART;TZID=Pacific/Auckland:20190612T090000
DTEND;TZID=Pacific/Auckland:20190612T150000
DTSTAMP:20260424T132225
CREATED:20190516T041033Z
LAST-MODIFIED:20190611T161929Z
UID:1155-1560330000-1560351600@nztbs.org.nz
SUMMARY:Professional Development Sharpen and Set
DESCRIPTION:This course is being offered as a Professional Development class for Materials Technology\, and Woodworking teachers\, technicians\, and trainees. \nPrimary focus in the course will be on hand planes\, straight chisels\, …To read the full description\, click here. \n
URL:http://nztbs.org.nz/course/professional-development-sharpen-and-set/
LOCATION:NZ Traditional Boatbuilding School\, P. Vos Building 38 Hammer street Auckland\, New Zealand
END:VEVENT
END:VCALENDAR