BEGIN:VCALENDAR
VERSION:2.0
PRODID:-//New Zealand Traditional Boat Building School - ECPv4.8.2//NONSGML v1.0//EN
CALSCALE:GREGORIAN
METHOD:PUBLISH
X-WR-CALNAME:New Zealand Traditional Boat Building School
X-ORIGINAL-URL:http://nztbs.org.nz
X-WR-CALDESC:Events for New Zealand Traditional Boat Building School
BEGIN:VEVENT
DTSTART;TZID=Pacific/Auckland:20190525T093000
DTEND;TZID=Pacific/Auckland:20190525T143000
DTSTAMP:20260424T162105
CREATED:20190419T072211Z
LAST-MODIFIED:20190524T161239Z
UID:1059-1558776600-1558794600@nztbs.org.nz
SUMMARY:Working with Composites
DESCRIPTION:Working with composites: 1 day\, hands on course. Get an insight into working cleanly and efficiently with composite materials. This course is being delivered by Adrian Pawson from Southern Spars. \n
URL:http://nztbs.org.nz/course/working-with-composites/
LOCATION:NZ Traditional Boatbuilding School\, P. Vos Building 38 Hammer street Auckland\, New Zealand
END:VEVENT
END:VCALENDAR